BEGIN:VCALENDAR
VERSION:2.0
PRODID:-//Winenow 酒經 - ECPv5.10.0//NONSGML v1.0//EN
CALSCALE:GREGORIAN
METHOD:PUBLISH
X-WR-CALNAME:Winenow 酒經
X-ORIGINAL-URL:https://api.winenow.com.hk
X-WR-CALDESC:Events for Winenow 酒經
BEGIN:VTIMEZONE
TZID:Asia/Hong_Kong
BEGIN:STANDARD
TZOFFSETFROM:+0800
TZOFFSETTO:+0800
TZNAME:HKT
DTSTART:20240101T000000
END:STANDARD
END:VTIMEZONE
BEGIN:VEVENT
DTSTART;TZID=Asia/Hong_Kong:20241114T183000
DTEND;TZID=Asia/Hong_Kong:20241114T210000
DTSTAMP:20260422T095717
CREATED:20241020T210645Z
LAST-MODIFIED:20241027T184248Z
UID:33031-1731609000-1731618000@api.winenow.com.hk
SUMMARY:Altaya Wines 年度品鑒會 2024
DESCRIPTION:日期：2024年11月14日 (星期四)\n時間：下午6時半至9時\n地點：香港上環德輔道西33號 Soho House 三樓 (地圖按此)\n門票：每位港幣$688 (10月早鳥價 每位港幣$598)\n每張門票含有Riedel 酒杯乙隻 及 $200現金券 (買酒滿$2000便可使用)\n\n按此購票\n\n數量有限，售完即止，不設即場購票\n\nAltaya Wines 一年一度的品酒會 — 來自世界各地的家族酒莊將會來到香港，展出超過100款頂級佳釀！今年以「Family Union」為主題，酒友將會感受到家族酒莊獨有的傳承，以及對耕釀葡萄酒的熱愛。\n\n重點推介酒莊及酒款\n\n\n     \n\n\n條款及細則:\n• 已售門票除天氣因素，一律不設退款。\n• 18歲以下人士恕不招待。\n• 如果天文台在開始前4小時懸掛紅、黑色暴雨警告或者8號烈風訊號，活動將會改期，敬請留意。\n• 《酒經》只屬門票預售代理方，如有其他有關活動的查詢和疑問，請聯繫主辦單位 Altaya Wines (電郵: jaime@altayagroup.com / 電話: 2523 1945)
URL:https://api.winenow.com.hk/event/altaya-wines-annualtasting-2024/
LOCATION:Soho House
CATEGORIES:品酒會,酒展,酒類教育
ATTACH;FMTTYPE=image/jpeg:https://api.winenow.com.hk/wp-content//uploads/2024/10/Artboard-10.jpg
END:VEVENT
END:VCALENDAR